BEGIN:VCALENDAR
VERSION:2.0
PRODID:-//Lions Club of Rockford MI - ECPv6.6.2//NONSGML v1.0//EN
CALSCALE:GREGORIAN
METHOD:PUBLISH
X-ORIGINAL-URL:https://www.rockfordlionsclub.org
X-WR-CALDESC:Events for Lions Club of Rockford MI
REFRESH-INTERVAL;VALUE=DURATION:PT1H
X-Robots-Tag:noindex
X-PUBLISHED-TTL:PT1H
BEGIN:VTIMEZONE
TZID:America/Detroit
BEGIN:DAYLIGHT
TZOFFSETFROM:-0500
TZOFFSETTO:-0400
TZNAME:EDT
DTSTART:20250309T070000
END:DAYLIGHT
BEGIN:STANDARD
TZOFFSETFROM:-0400
TZOFFSETTO:-0500
TZNAME:EST
DTSTART:20251102T060000
END:STANDARD
END:VTIMEZONE
BEGIN:VEVENT
DTSTART;TZID=America/Detroit:20250715T191500
DTEND;TZID=America/Detroit:20250715T210000
DTSTAMP:20260425T071416
CREATED:20250715T003920Z
LAST-MODIFIED:20250715T003920Z
UID:1832-1752606900-1752613200@www.rockfordlionsclub.org
SUMMARY:Can Returns
DESCRIPTION:
URL:https://www.rockfordlionsclub.org/event/can-returns-27/
LOCATION:Meijer\, 2799 10 Mile Rd NE\, Rockford\, MI\, 49341\, United States
END:VEVENT
BEGIN:VEVENT
DTSTART;TZID=America/Detroit:20250731T180000
DTEND;TZID=America/Detroit:20250731T220000
DTSTAMP:20260425T071416
CREATED:20250708T012638Z
LAST-MODIFIED:20250708T013355Z
UID:1822-1753984800-1753999200@www.rockfordlionsclub.org
SUMMARY:Summer Picnic
DESCRIPTION:We will start at 6:00\, and eat about 6:30.  This is a potluck style picnic so bring your favorite dish to pass.  The club will be providing beer\, wine and pop along with Dave Pummill’s barbecue brisket\, ribs and chicken!\n\nYour family is welcome and encouraged. Also bring a camp chair to sit on.\n\n\nRSVP by July 24th!
URL:https://www.rockfordlionsclub.org/event/summer-picnic-2/
LOCATION:The Heeringa’s\, 175 Courtland St\, Rockford\, MI\, 49341\, United States
END:VEVENT
END:VCALENDAR