BEGIN:VCALENDAR
VERSION:2.0
PRODID:-//Lions Club of Rockford MI - ECPv6.6.2//NONSGML v1.0//EN
CALSCALE:GREGORIAN
METHOD:PUBLISH
X-WR-CALNAME:Lions Club of Rockford MI
X-ORIGINAL-URL:https://www.rockfordlionsclub.org
X-WR-CALDESC:Events for Lions Club of Rockford MI
REFRESH-INTERVAL;VALUE=DURATION:PT1H
X-Robots-Tag:noindex
X-PUBLISHED-TTL:PT1H
BEGIN:VTIMEZONE
TZID:America/Detroit
BEGIN:DAYLIGHT
TZOFFSETFROM:-0500
TZOFFSETTO:-0400
TZNAME:EDT
DTSTART:20250309T070000
END:DAYLIGHT
BEGIN:STANDARD
TZOFFSETFROM:-0400
TZOFFSETTO:-0500
TZNAME:EST
DTSTART:20251102T060000
END:STANDARD
END:VTIMEZONE
BEGIN:VEVENT
DTSTART;TZID=America/Detroit:20250401T191500
DTEND;TZID=America/Detroit:20250401T210000
DTSTAMP:20260423T032055
CREATED:20240908T114505Z
LAST-MODIFIED:20250316T131847Z
UID:1645-1743534900-1743541200@www.rockfordlionsclub.org
SUMMARY:Can Returns
DESCRIPTION:
URL:https://www.rockfordlionsclub.org/event/can-returns-32/
LOCATION:Meijer\, 2799 10 Mile Rd NE\, Rockford\, MI\, 49341\, United States
CATEGORIES:Members Only
END:VEVENT
BEGIN:VEVENT
DTSTART;TZID=America/Detroit:20250410T170000
DTEND;TZID=America/Detroit:20250410T180000
DTSTAMP:20260423T032055
CREATED:20240902T123854Z
LAST-MODIFIED:20240902T123854Z
UID:1603-1744304400-1744308000@www.rockfordlionsclub.org
SUMMARY:Board Meeting
DESCRIPTION:
URL:https://www.rockfordlionsclub.org/event/board-meeting-16/
LOCATION:Rockford Community Cabin\, 220 N Monroe St\, Rockford\, MI\, 49341\, United States
CATEGORIES:Members Only
END:VEVENT
BEGIN:VEVENT
DTSTART;TZID=America/Detroit:20250410T180000
DTEND;TZID=America/Detroit:20250410T200000
DTSTAMP:20260423T032055
CREATED:20240902T123003Z
LAST-MODIFIED:20240902T123003Z
UID:1577-1744308000-1744315200@www.rockfordlionsclub.org
SUMMARY:Member Meeting
DESCRIPTION:
URL:https://www.rockfordlionsclub.org/event/member-meeting-24/
LOCATION:Rockford Community Cabin\, 220 N Monroe St\, Rockford\, MI\, 49341\, United States
END:VEVENT
BEGIN:VEVENT
DTSTART;TZID=America/Detroit:20250415T191500
DTEND;TZID=America/Detroit:20250415T210000
DTSTAMP:20260423T032055
CREATED:20240908T114555Z
LAST-MODIFIED:20250316T131908Z
UID:1647-1744744500-1744750800@www.rockfordlionsclub.org
SUMMARY:Can Returns
DESCRIPTION:
URL:https://www.rockfordlionsclub.org/event/can-returns-33/
LOCATION:Meijer\, 2799 10 Mile Rd NE\, Rockford\, MI\, 49341\, United States
CATEGORIES:Members Only
END:VEVENT
BEGIN:VEVENT
DTSTART;TZID=America/Detroit:20250417T180000
DTEND;TZID=America/Detroit:20250417T200000
DTSTAMP:20260423T032055
CREATED:20250316T135137Z
LAST-MODIFIED:20250316T135137Z
UID:1752-1744912800-1744920000@www.rockfordlionsclub.org
SUMMARY:Spring Road Cleanup
DESCRIPTION:
URL:https://www.rockfordlionsclub.org/event/spring-road-cleanup/
LOCATION:McDonald’s\, 500 E Division St NE\, Rockford\, 49341\, United States
CATEGORIES:Members Only
END:VEVENT
BEGIN:VEVENT
DTSTART;TZID=America/Detroit:20250424T180000
DTEND;TZID=America/Detroit:20250424T200000
DTSTAMP:20260423T032055
CREATED:20240902T123036Z
LAST-MODIFIED:20240902T123036Z
UID:1579-1745517600-1745524800@www.rockfordlionsclub.org
SUMMARY:Member Meeting
DESCRIPTION:
URL:https://www.rockfordlionsclub.org/event/member-meeting-25/
LOCATION:Rockford Community Cabin\, 220 N Monroe St\, Rockford\, MI\, 49341\, United States
END:VEVENT
BEGIN:VEVENT
DTSTART;VALUE=DATE:20250425
DTEND;VALUE=DATE:20250427
DTSTAMP:20260423T032055
CREATED:20250325T233440Z
LAST-MODIFIED:20250325T233440Z
UID:1761-1745539200-1745711999@www.rockfordlionsclub.org
SUMMARY:White Cane
DESCRIPTION:
URL:https://www.rockfordlionsclub.org/event/white-cane-4/
LOCATION:Rockford Downtown & Family Fare\, Rockford\, MI\, United States
END:VEVENT
BEGIN:VEVENT
DTSTART;TZID=America/Detroit:20250426T170000
DTEND;TZID=America/Detroit:20250426T200000
DTSTAMP:20260423T032055
CREATED:20250316T141324Z
LAST-MODIFIED:20250316T141432Z
UID:1756-1745686800-1745697600@www.rockfordlionsclub.org
SUMMARY:Ravenna's Annual Goldfest Banquet/Fundraiser
DESCRIPTION:
URL:https://www.rockfordlionsclub.org/event/ravennas-annual-goldfest-banquet-fundraiser/
LOCATION:MI
CATEGORIES:Members Only
END:VEVENT
BEGIN:VEVENT
DTSTART;TZID=America/Detroit:20250429T191500
DTEND;TZID=America/Detroit:20250429T210000
DTSTAMP:20260423T032055
CREATED:20240908T114722Z
LAST-MODIFIED:20250316T132033Z
UID:1649-1745954100-1745960400@www.rockfordlionsclub.org
SUMMARY:Can Returns
DESCRIPTION:
URL:https://www.rockfordlionsclub.org/event/can-returns-34/
LOCATION:Meijer\, 2799 10 Mile Rd NE\, Rockford\, MI\, 49341\, United States
CATEGORIES:Members Only
END:VEVENT
END:VCALENDAR