BEGIN:VCALENDAR
VERSION:2.0
PRODID:-//Lions Club of Rockford MI - ECPv6.6.2//NONSGML v1.0//EN
CALSCALE:GREGORIAN
METHOD:PUBLISH
X-WR-CALNAME:Lions Club of Rockford MI
X-ORIGINAL-URL:https://www.rockfordlionsclub.org
X-WR-CALDESC:Events for Lions Club of Rockford MI
REFRESH-INTERVAL;VALUE=DURATION:PT1H
X-Robots-Tag:noindex
X-PUBLISHED-TTL:PT1H
BEGIN:VTIMEZONE
TZID:America/Detroit
BEGIN:DAYLIGHT
TZOFFSETFROM:-0500
TZOFFSETTO:-0400
TZNAME:EDT
DTSTART:20230312T070000
END:DAYLIGHT
BEGIN:STANDARD
TZOFFSETFROM:-0400
TZOFFSETTO:-0500
TZNAME:EST
DTSTART:20231105T060000
END:STANDARD
END:VTIMEZONE
BEGIN:VEVENT
DTSTART;TZID=America/Detroit:20231202T090000
DTEND;TZID=America/Detroit:20231202T120000
DTSTAMP:20260423T182006
CREATED:20231122T225538Z
LAST-MODIFIED:20231122T225538Z
UID:1354-1701507600-1701518400@www.rockfordlionsclub.org
SUMMARY:City of Rockford Restoration Project
DESCRIPTION:The city still has some planting to do at the Dog Park Trail by the Rogue River. Here is a description of the work day from Andrew Lidral\, the project leader. \n\nSaturday December 2nd from 9AM-12 PM\nRockford Dog Park\nWaders/hip boots are needed\nBring a 2-4 lb. hammer if you have one.
URL:https://www.rockfordlionsclub.org/event/city-of-rockford-restoration-project-2/
LOCATION:MI
END:VEVENT
BEGIN:VEVENT
DTSTART;TZID=America/Detroit:20231202T093000
DTEND;TZID=America/Detroit:20231202T120000
DTSTAMP:20260423T182006
CREATED:20231129T034924Z
LAST-MODIFIED:20231129T034924Z
UID:1359-1701509400-1701518400@www.rockfordlionsclub.org
SUMMARY:Rockford Christmas Parade
DESCRIPTION:We are planning to meet at 9:30 am\, our float is #40 in line.   Bundle up and don’t forget your vest.  Hope to see you there!
URL:https://www.rockfordlionsclub.org/event/rockford-christmas-parade/
LOCATION:Rockford Downtown\, Rockford\, MI\, United States
END:VEVENT
BEGIN:VEVENT
DTSTART;TZID=America/Detroit:20231203T094500
DTEND;TZID=America/Detroit:20231203T120000
DTSTAMP:20260423T182006
CREATED:20231127T225432Z
LAST-MODIFIED:20231127T225432Z
UID:1357-1701596700-1701604800@www.rockfordlionsclub.org
SUMMARY:Shop With A Hero
DESCRIPTION:We will be meeting Rockford Public Safety near the east entrance of Meijer\, between 9:45-10:00 am.  Come out and help with some holiday shopping!
URL:https://www.rockfordlionsclub.org/event/shop-with-a-hero-2/
LOCATION:Meijer\, 2799 10 Mile Rd NE\, Rockford\, MI\, 49341\, United States
CATEGORIES:Members Only
END:VEVENT
BEGIN:VEVENT
DTSTART;TZID=America/Detroit:20231206T193000
DTEND;TZID=America/Detroit:20231206T210000
DTSTAMP:20260423T182006
CREATED:20231005T234204Z
LAST-MODIFIED:20231116T232143Z
UID:1212-1701891000-1701896400@www.rockfordlionsclub.org
SUMMARY:Can Returns
DESCRIPTION:
URL:https://www.rockfordlionsclub.org/event/can-returns-6/
LOCATION:Meijer\, 2799 10 Mile Rd NE\, Rockford\, MI\, 49341\, United States
CATEGORIES:Members Only
END:VEVENT
BEGIN:VEVENT
DTSTART;TZID=America/Detroit:20231214T180000
DTEND;TZID=America/Detroit:20231214T200000
DTSTAMP:20260423T182006
CREATED:20230902T184815Z
LAST-MODIFIED:20230904T181451Z
UID:996-1702576800-1702584000@www.rockfordlionsclub.org
SUMMARY:Christmas Party
DESCRIPTION:
URL:https://www.rockfordlionsclub.org/event/christmas-party/
LOCATION:Rockford Community Cabin\, 220 N Monroe St\, Rockford\, MI\, 49341\, United States
END:VEVENT
BEGIN:VEVENT
DTSTART;TZID=America/Detroit:20231227T193000
DTEND;TZID=America/Detroit:20231227T210000
DTSTAMP:20260423T182006
CREATED:20231005T234312Z
LAST-MODIFIED:20231116T232309Z
UID:1214-1703705400-1703710800@www.rockfordlionsclub.org
SUMMARY:Can Returns
DESCRIPTION:
URL:https://www.rockfordlionsclub.org/event/can-returns-7/
LOCATION:Meijer\, 2799 10 Mile Rd NE\, Rockford\, MI\, 49341\, United States
CATEGORIES:Members Only
END:VEVENT
END:VCALENDAR