BEGIN:VCALENDAR
VERSION:2.0
PRODID:-//Lions Club of Rockford MI - ECPv6.6.2//NONSGML v1.0//EN
CALSCALE:GREGORIAN
METHOD:PUBLISH
X-WR-CALNAME:Lions Club of Rockford MI
X-ORIGINAL-URL:https://www.rockfordlionsclub.org
X-WR-CALDESC:Events for Lions Club of Rockford MI
REFRESH-INTERVAL;VALUE=DURATION:PT1H
X-Robots-Tag:noindex
X-PUBLISHED-TTL:PT1H
BEGIN:VTIMEZONE
TZID:America/Detroit
BEGIN:DAYLIGHT
TZOFFSETFROM:-0500
TZOFFSETTO:-0400
TZNAME:EDT
DTSTART:20230312T070000
END:DAYLIGHT
BEGIN:STANDARD
TZOFFSETFROM:-0400
TZOFFSETTO:-0500
TZNAME:EST
DTSTART:20231105T060000
END:STANDARD
END:VTIMEZONE
BEGIN:VEVENT
DTSTART;TZID=America/Detroit:20231004T180000
DTEND;TZID=America/Detroit:20231004T200000
DTSTAMP:20260423T141000
CREATED:20230927T001745Z
LAST-MODIFIED:20230927T001745Z
UID:1176-1696442400-1696449600@www.rockfordlionsclub.org
SUMMARY:Fruit/Coop Steak Fry
DESCRIPTION:Annual Steak Fry and Raffle.  $16 for dinner which includes steak\, potato\, salad\, vegetable\, roll and dessert.   Social time at 6:00 pm\, dinner at 6:30 pm. \nHosted by the Ravenna Lion’s Club.
URL:https://www.rockfordlionsclub.org/event/fruit-coop-steak-fry/
LOCATION:American Legion Sherman Moore Post #297\, 3590 Conklin St.\, Ravenna\, MI\, 49451\, United States
END:VEVENT
BEGIN:VEVENT
DTSTART;TZID=America/Detroit:20231004T193000
DTEND;TZID=America/Detroit:20231004T210000
DTSTAMP:20260423T141000
CREATED:20230909T133422Z
LAST-MODIFIED:20230909T133422Z
UID:1099-1696447800-1696453200@www.rockfordlionsclub.org
SUMMARY:Can Returns
DESCRIPTION:
URL:https://www.rockfordlionsclub.org/event/can-returns-2/
LOCATION:Meijer\, 2799 10 Mile Rd NE\, Rockford\, MI\, 49341\, United States
CATEGORIES:Members Only
END:VEVENT
BEGIN:VEVENT
DTSTART;TZID=America/Detroit:20231008T130000
DTEND;TZID=America/Detroit:20231008T143000
DTSTAMP:20260423T141000
CREATED:20230917T174544Z
LAST-MODIFIED:20231005T191948Z
UID:1166-1696770000-1696775400@www.rockfordlionsclub.org
SUMMARY:Roadside Cleanup
DESCRIPTION:Wear comfortable clothing.  Gloves recommended.
URL:https://www.rockfordlionsclub.org/event/roadside-cleanup-2/
LOCATION:McDonald’s\, 500 E Division St NE\, Rockford\, 49341\, United States
CATEGORIES:Members Only
END:VEVENT
BEGIN:VEVENT
DTSTART;TZID=America/Detroit:20231011T183000
DTEND;TZID=America/Detroit:20231011T193000
DTSTAMP:20260423T141000
CREATED:20231002T001851Z
LAST-MODIFIED:20231002T002117Z
UID:1203-1697049000-1697052600@www.rockfordlionsclub.org
SUMMARY:Fruitport Lions Fish Fry
DESCRIPTION:Pomona Park\n\nFruitport\, MI 49415
URL:https://www.rockfordlionsclub.org/event/fruitport-lions-fish-fry/
LOCATION:MI
END:VEVENT
BEGIN:VEVENT
DTSTART;TZID=America/Detroit:20231011T193000
DTEND;TZID=America/Detroit:20231011T210000
DTSTAMP:20260423T141000
CREATED:20231012T162703Z
LAST-MODIFIED:20231012T162703Z
UID:1305-1697052600-1697058000@www.rockfordlionsclub.org
SUMMARY:Can Returns
DESCRIPTION:
URL:https://www.rockfordlionsclub.org/event/can-returns-8/
LOCATION:Meijer\, 2799 10 Mile Rd NE\, Rockford\, MI\, 49341\, United States
CATEGORIES:Members Only
END:VEVENT
BEGIN:VEVENT
DTSTART;TZID=America/Detroit:20231012T170000
DTEND;TZID=America/Detroit:20231012T180000
DTSTAMP:20260423T141000
CREATED:20230914T204403Z
LAST-MODIFIED:20230917T173548Z
UID:1134-1697130000-1697133600@www.rockfordlionsclub.org
SUMMARY:Board Meeting
DESCRIPTION:
URL:https://www.rockfordlionsclub.org/event/board-meeting-2/
LOCATION:Rockford Community Cabin\, 220 N Monroe St\, Rockford\, MI\, 49341\, United States
CATEGORIES:Members Only
END:VEVENT
BEGIN:VEVENT
DTSTART;TZID=America/Detroit:20231012T180000
DTEND;TZID=America/Detroit:20231012T200000
DTSTAMP:20260423T141000
CREATED:20230902T174958Z
LAST-MODIFIED:20230917T124913Z
UID:975-1697133600-1697140800@www.rockfordlionsclub.org
SUMMARY:Member Meeting
DESCRIPTION:Guest Speaker:  Rockford Pickleball Club
URL:https://www.rockfordlionsclub.org/event/member-meetings-3/
LOCATION:Rockford Community Cabin\, 220 N Monroe St\, Rockford\, MI\, 49341\, United States
END:VEVENT
BEGIN:VEVENT
DTSTART;TZID=America/Detroit:20231018T193000
DTEND;TZID=America/Detroit:20231018T210000
DTSTAMP:20260423T141000
CREATED:20230909T133637Z
LAST-MODIFIED:20231012T162535Z
UID:1101-1697657400-1697662800@www.rockfordlionsclub.org
SUMMARY:Can Returns
DESCRIPTION:
URL:https://www.rockfordlionsclub.org/event/can-returns-3/
LOCATION:Meijer\, 2799 10 Mile Rd NE\, Rockford\, MI\, 49341\, United States
CATEGORIES:Members Only
END:VEVENT
BEGIN:VEVENT
DTSTART;TZID=America/Detroit:20231019T173000
DTEND;TZID=America/Detroit:20231019T203000
DTSTAMP:20260423T141000
CREATED:20230930T021034Z
LAST-MODIFIED:20231006T105629Z
UID:1178-1697736600-1697747400@www.rockfordlionsclub.org
SUMMARY:District Project Night
DESCRIPTION:Come join your fellow lions of 11-C1 to celebrate our District and State Projects\nCost is $20 per person\nDinner\, Beverages & Dessert \nPLEASE RSVP BY OCTOBER 12\, 2023 after Oct 12 add $5\n~~~~~~~~~~~~~~~~~~~~~~~~~~~~~~~~~~~~~~~~~~~\n5:30-6:15pm Social Time/Silent Auction\n6:15pm dinner will be served\n6:45 pm the event will begin!
URL:https://www.rockfordlionsclub.org/event/district-project-night/
LOCATION:Rockford Sportsman’s Club\, 11115 Northland Dr NE\, Rockford\, MI\, 49341\, United States
CATEGORIES:Members Only
END:VEVENT
BEGIN:VEVENT
DTSTART;TZID=America/Detroit:20231023T170000
DTEND;TZID=America/Detroit:20231023T220000
DTSTAMP:20260423T141000
CREATED:20230917T124159Z
LAST-MODIFIED:20230917T124159Z
UID:1153-1698080400-1698098400@www.rockfordlionsclub.org
SUMMARY:Score Funds for Friends
DESCRIPTION:
URL:https://www.rockfordlionsclub.org/event/score-funds-for-friends/
LOCATION:The Score Restaurant & Sports Bar\, 5301 Northland Dr NE\, Grand Rapids\, MI\, 49525\, United States
END:VEVENT
BEGIN:VEVENT
DTSTART;TZID=America/Detroit:20231026T180000
DTEND;TZID=America/Detroit:20231026T200000
DTSTAMP:20260423T141000
CREATED:20230902T175723Z
LAST-MODIFIED:20231014T233752Z
UID:979-1698343200-1698350400@www.rockfordlionsclub.org
SUMMARY:Member Meeting
DESCRIPTION:Let’s have a little extra fun with a soup making contest!\n\nBring a crock pot of your favorite soup (along with your recipe in writing to share). The top 3 soups will win a prize.\n\nIn the spirit of Halloween\, let’s all dress in our favorite sports team apparel.\n\n\n\n\nGuest Speaker: Ian McCormick – Rockford Museum
URL:https://www.rockfordlionsclub.org/event/member-meeting/
LOCATION:Rockford Community Cabin\, 220 N Monroe St\, Rockford\, MI\, 49341\, United States
END:VEVENT
END:VCALENDAR