BEGIN:VCALENDAR
VERSION:2.0
PRODID:-//Lions Club of Rockford MI - ECPv6.6.2//NONSGML v1.0//EN
CALSCALE:GREGORIAN
METHOD:PUBLISH
X-WR-CALNAME:Lions Club of Rockford MI
X-ORIGINAL-URL:https://www.rockfordlionsclub.org
X-WR-CALDESC:Events for Lions Club of Rockford MI
REFRESH-INTERVAL;VALUE=DURATION:PT1H
X-Robots-Tag:noindex
X-PUBLISHED-TTL:PT1H
BEGIN:VTIMEZONE
TZID:America/Detroit
BEGIN:DAYLIGHT
TZOFFSETFROM:-0500
TZOFFSETTO:-0400
TZNAME:EDT
DTSTART:20260308T070000
END:DAYLIGHT
BEGIN:STANDARD
TZOFFSETFROM:-0400
TZOFFSETTO:-0500
TZNAME:EST
DTSTART:20261101T060000
END:STANDARD
END:VTIMEZONE
BEGIN:VEVENT
DTSTART;VALUE=DATE:20260604
DTEND;VALUE=DATE:20260608
DTSTAMP:20260420T020959
CREATED:20260331T002257Z
LAST-MODIFIED:20260331T002330Z
UID:2092-1780531200-1780876799@www.rockfordlionsclub.org
SUMMARY:Start of Summer
DESCRIPTION:
URL:https://www.rockfordlionsclub.org/event/start-of-summer-3/
LOCATION:Lion’s Entertainment Tent\, 31 Courtland St\, Rockford\, MI\, 49341\, United States
END:VEVENT
BEGIN:VEVENT
DTSTART;TZID=America/Detroit:20260604T180000
DTEND;TZID=America/Detroit:20260604T200000
DTSTAMP:20260420T020959
CREATED:20260331T002131Z
LAST-MODIFIED:20260331T002131Z
UID:2090-1780596000-1780603200@www.rockfordlionsclub.org
SUMMARY:Final Meeting & Testing of the Taps
DESCRIPTION:We’ll prepare for the beer tent and celebrate the incredible contributions of our members. Plan to attend—it’s always a great night of recognition and fellowship!
URL:https://www.rockfordlionsclub.org/event/final-meeting-testing-of-the-taps-3/
LOCATION:Lion’s Entertainment Tent\, 31 Courtland St\, Rockford\, MI\, 49341\, United States
END:VEVENT
END:VCALENDAR