BEGIN:VCALENDAR
VERSION:2.0
PRODID:-//Lions Club of Rockford MI - ECPv6.6.2//NONSGML v1.0//EN
CALSCALE:GREGORIAN
METHOD:PUBLISH
X-ORIGINAL-URL:https://www.rockfordlionsclub.org
X-WR-CALDESC:Events for Lions Club of Rockford MI
REFRESH-INTERVAL;VALUE=DURATION:PT1H
X-Robots-Tag:noindex
X-PUBLISHED-TTL:PT1H
BEGIN:VTIMEZONE
TZID:America/Detroit
BEGIN:DAYLIGHT
TZOFFSETFROM:-0500
TZOFFSETTO:-0400
TZNAME:EDT
DTSTART:20260308T070000
END:DAYLIGHT
BEGIN:STANDARD
TZOFFSETFROM:-0400
TZOFFSETTO:-0500
TZNAME:EST
DTSTART:20261101T060000
END:STANDARD
END:VTIMEZONE
BEGIN:VEVENT
DTSTART;TZID=America/Detroit:20260409T170000
DTEND;TZID=America/Detroit:20260409T180000
DTSTAMP:20260419T205632
CREATED:20250827T013213Z
LAST-MODIFIED:20260112T003411Z
UID:1894-1775754000-1775757600@www.rockfordlionsclub.org
SUMMARY:Board Meeting
DESCRIPTION:
URL:https://www.rockfordlionsclub.org/event/board-meeting-24/
LOCATION:North Kent Connect\, 10075 Northland Dr NE\, Rockford\, MI\, 49341\, United States
CATEGORIES:Members Only
END:VEVENT
BEGIN:VEVENT
DTSTART;TZID=America/Detroit:20260409T180000
DTEND;TZID=America/Detroit:20260409T200000
DTSTAMP:20260419T205632
CREATED:20250827T011503Z
LAST-MODIFIED:20260112T003458Z
UID:1872-1775757600-1775764800@www.rockfordlionsclub.org
SUMMARY:Member Meeting
DESCRIPTION:
URL:https://www.rockfordlionsclub.org/event/member-meeting-39/
LOCATION:North Kent Connect\, 10075 Northland Dr NE\, Rockford\, MI\, 49341\, United States
END:VEVENT
END:VCALENDAR