BEGIN:VCALENDAR
VERSION:2.0
PRODID:-//Lions Club of Rockford MI - ECPv6.6.2//NONSGML v1.0//EN
CALSCALE:GREGORIAN
METHOD:PUBLISH
X-ORIGINAL-URL:https://www.rockfordlionsclub.org
X-WR-CALDESC:Events for Lions Club of Rockford MI
REFRESH-INTERVAL;VALUE=DURATION:PT1H
X-Robots-Tag:noindex
X-PUBLISHED-TTL:PT1H
BEGIN:VTIMEZONE
TZID:America/Detroit
BEGIN:DAYLIGHT
TZOFFSETFROM:-0500
TZOFFSETTO:-0400
TZNAME:EDT
DTSTART:20250309T070000
END:DAYLIGHT
BEGIN:STANDARD
TZOFFSETFROM:-0400
TZOFFSETTO:-0500
TZNAME:EST
DTSTART:20251102T060000
END:STANDARD
END:VTIMEZONE
BEGIN:VEVENT
DTSTART;VALUE=DATE:20250605
DTEND;VALUE=DATE:20250609
DTSTAMP:20260425T102119
CREATED:20240902T123417Z
LAST-MODIFIED:20240902T123417Z
UID:1587-1749081600-1749427199@www.rockfordlionsclub.org
SUMMARY:Start of Summer
DESCRIPTION:
URL:https://www.rockfordlionsclub.org/event/start-of-summer-2/
LOCATION:Lion’s Entertainment Tent\, 31 Courtland St\, Rockford\, MI\, 49341\, United States
END:VEVENT
BEGIN:VEVENT
DTSTART;TZID=America/Detroit:20250608T120000
DTEND;TZID=America/Detroit:20250608T150000
DTSTAMP:20260425T102119
CREATED:20250515T003140Z
LAST-MODIFIED:20250515T003140Z
UID:1796-1749384000-1749394800@www.rockfordlionsclub.org
SUMMARY:Bloody Mary Bingo
DESCRIPTION:
URL:https://www.rockfordlionsclub.org/event/bloody-mary-bingo-2/
LOCATION:Lion’s Entertainment Tent\, 31 Courtland St\, Rockford\, MI\, 49341\, United States
END:VEVENT
END:VCALENDAR