BEGIN:VCALENDAR
VERSION:2.0
PRODID:-//Lions Club of Rockford MI - ECPv6.6.2//NONSGML v1.0//EN
CALSCALE:GREGORIAN
METHOD:PUBLISH
X-ORIGINAL-URL:https://www.rockfordlionsclub.org
X-WR-CALDESC:Events for Lions Club of Rockford MI
REFRESH-INTERVAL;VALUE=DURATION:PT1H
X-Robots-Tag:noindex
X-PUBLISHED-TTL:PT1H
BEGIN:VTIMEZONE
TZID:America/Detroit
BEGIN:DAYLIGHT
TZOFFSETFROM:-0500
TZOFFSETTO:-0400
TZNAME:EDT
DTSTART:20230312T070000
END:DAYLIGHT
BEGIN:STANDARD
TZOFFSETFROM:-0400
TZOFFSETTO:-0500
TZNAME:EST
DTSTART:20231105T060000
END:STANDARD
END:VTIMEZONE
BEGIN:VEVENT
DTSTART;TZID=America/Detroit:20231202T090000
DTEND;TZID=America/Detroit:20231202T120000
DTSTAMP:20260424T005549
CREATED:20231122T225538Z
LAST-MODIFIED:20231122T225538Z
UID:1354-1701507600-1701518400@www.rockfordlionsclub.org
SUMMARY:City of Rockford Restoration Project
DESCRIPTION:The city still has some planting to do at the Dog Park Trail by the Rogue River. Here is a description of the work day from Andrew Lidral\, the project leader. \n\nSaturday December 2nd from 9AM-12 PM\nRockford Dog Park\nWaders/hip boots are needed\nBring a 2-4 lb. hammer if you have one.
URL:https://www.rockfordlionsclub.org/event/city-of-rockford-restoration-project-2/
LOCATION:MI
END:VEVENT
BEGIN:VEVENT
DTSTART;TZID=America/Detroit:20231202T093000
DTEND;TZID=America/Detroit:20231202T120000
DTSTAMP:20260424T005549
CREATED:20231129T034924Z
LAST-MODIFIED:20231129T034924Z
UID:1359-1701509400-1701518400@www.rockfordlionsclub.org
SUMMARY:Rockford Christmas Parade
DESCRIPTION:We are planning to meet at 9:30 am\, our float is #40 in line.   Bundle up and don’t forget your vest.  Hope to see you there!
URL:https://www.rockfordlionsclub.org/event/rockford-christmas-parade/
LOCATION:Rockford Downtown\, Rockford\, MI\, United States
END:VEVENT
END:VCALENDAR