BEGIN:VCALENDAR
VERSION:2.0
PRODID:-//Lions Club of Rockford MI - ECPv6.6.2//NONSGML v1.0//EN
CALSCALE:GREGORIAN
METHOD:PUBLISH
X-ORIGINAL-URL:https://www.rockfordlionsclub.org
X-WR-CALDESC:Events for Lions Club of Rockford MI
REFRESH-INTERVAL;VALUE=DURATION:PT1H
X-Robots-Tag:noindex
X-PUBLISHED-TTL:PT1H
BEGIN:VTIMEZONE
TZID:America/Detroit
BEGIN:DAYLIGHT
TZOFFSETFROM:-0500
TZOFFSETTO:-0400
TZNAME:EDT
DTSTART:20230312T070000
END:DAYLIGHT
BEGIN:STANDARD
TZOFFSETFROM:-0400
TZOFFSETTO:-0500
TZNAME:EST
DTSTART:20231105T060000
END:STANDARD
END:VTIMEZONE
BEGIN:VEVENT
DTSTART;VALUE=DATE:20231103
DTEND;VALUE=DATE:20231107
DTSTAMP:20260424T005419
CREATED:20230930T021344Z
LAST-MODIFIED:20231002T000240Z
UID:1182-1698969600-1699315199@www.rockfordlionsclub.org
SUMMARY:Lions Leadership Institute 2023
DESCRIPTION:Lions can go to advance their leadership and personal skills such as problem solving\, running a meeting\, public speaking and general Lions knowledge.  This is a great experience with new Lion friends and great food as a perk!
URL:https://www.rockfordlionsclub.org/event/lions-leadership-institute-of-mi/
LOCATION:Ralph A. MacMullan Conference Center\, 104 Conservation Dr\, Roscommon\, MI\, 48653\, United States
CATEGORIES:Members Only
END:VEVENT
END:VCALENDAR