BEGIN:VCALENDAR
VERSION:2.0
PRODID:-//Lions Club of Rockford MI - ECPv6.6.2//NONSGML v1.0//EN
CALSCALE:GREGORIAN
METHOD:PUBLISH
X-WR-CALNAME:Lions Club of Rockford MI
X-ORIGINAL-URL:https://www.rockfordlionsclub.org
X-WR-CALDESC:Events for Lions Club of Rockford MI
REFRESH-INTERVAL;VALUE=DURATION:PT1H
X-Robots-Tag:noindex
X-PUBLISHED-TTL:PT1H
BEGIN:VTIMEZONE
TZID:America/Detroit
BEGIN:DAYLIGHT
TZOFFSETFROM:-0500
TZOFFSETTO:-0400
TZNAME:EDT
DTSTART:20230312T070000
END:DAYLIGHT
BEGIN:STANDARD
TZOFFSETFROM:-0400
TZOFFSETTO:-0500
TZNAME:EST
DTSTART:20231105T060000
END:STANDARD
END:VTIMEZONE
BEGIN:VEVENT
DTSTART;TZID=America/Detroit:20231026T180000
DTEND;TZID=America/Detroit:20231026T200000
DTSTAMP:20260423T153613
CREATED:20230902T175723Z
LAST-MODIFIED:20231014T233752Z
UID:979-1698343200-1698350400@www.rockfordlionsclub.org
SUMMARY:Member Meeting
DESCRIPTION:Let’s have a little extra fun with a soup making contest!\n\nBring a crock pot of your favorite soup (along with your recipe in writing to share). The top 3 soups will win a prize.\n\nIn the spirit of Halloween\, let’s all dress in our favorite sports team apparel.\n\n\n\n\nGuest Speaker: Ian McCormick – Rockford Museum
URL:https://www.rockfordlionsclub.org/event/member-meeting/
LOCATION:Rockford Community Cabin\, 220 N Monroe St\, Rockford\, MI\, 49341\, United States
END:VEVENT
END:VCALENDAR